BEGIN:VCALENDAR
VERSION:2.0
PRODID:icalendar-ruby
CALSCALE:GREGORIAN
METHOD:PUBLISH
BEGIN:VEVENT
DTSTAMP:20260423T215719Z
UID:23-1600892@villagechurchknox.com
DTSTART:20261004T131500Z
DTEND:20261004T140000Z
CLASS:PUBLIC
CREATED:20260423T153743
DESCRIPTION:In the Word is a new Bible Discussion Group that will be held o
 n Sunday mornings at 9:15. This class is a great opportunity to be in comm
 unity with other believers and read God's Word together. As of 2025\, we a
 re reading through the Old Testament chronologically together. For reading
  plan downloads\, resources and more info\, visit villagechurchknox.org/in
 -the-word. Anyone is welcome to join us! Childcare will be availble as nee
 ded. 
LAST-MODIFIED:20260423T153743
LOCATION:Fellowship Hall
SUMMARY:In the Word
URL;VALUE=URI:https://www.villagechurchknox.org/events/in-the-word/2026-10-
 04
ATTACH;FILENAME=In the Word Web Image.jpg;FMTTYPE=image/jpeg:https://dq5pwp
 g1q8ru0.cloudfront.net/2023/06/28/06/41/55/06624a2c-30d7-4927-a4a1-58000ef
 43bf5/In%20the%20Word%20Web%20Image.jpg
END:VEVENT
END:VCALENDAR
